BEGIN:VCALENDAR
VERSION:2.0
PRODID:-//Tukios.com/
BEGIN:VEVENT
UID:daec312d-607f-4b16-bcec-27f6ba2282a2@www.forbeshoffman.com
DTSTAMP:20260425T030451Z
DTSTART:20260426T223000Z
DTEND:20260427T000000Z
SUMMARY:Visitation
DESCRIPTION:
URL:https://www.forbeshoffman.com/obituaries/carol-salsbery
LOCATION:Forbes-Hoffman Funeral Home 405 Main St P.O. Box 374 Parsons KS 
	67357
GEO:37.3407774;-95.2390259
END:VEVENT
END:VCALENDAR