BEGIN:VCALENDAR
VERSION:2.0
PRODID:-//Tukios.com/
BEGIN:VEVENT
UID:784070f7-49ee-4ed4-b1e2-79973d745a6b@www.forbeshoffman.com
DTSTAMP:20260425T030619Z
DTSTART:20260429T160000Z
DTEND:20260429T170000Z
SUMMARY:Graveside Service
DESCRIPTION:
URL:https://www.forbeshoffman.com/obituaries/carol-salsbery
LOCATION:Mt. Pleasant Cemetery Huston Avenue  Altamont KS 67330
GEO:37.1909363;-95.2971486
END:VEVENT
END:VCALENDAR