BEGIN:VCALENDAR
VERSION:2.0
PRODID:-//Tukios.com/
BEGIN:VEVENT
UID:38b82d50-1584-4c0a-bdce-16345f5bc035@www.forbeshoffman.com
DTSTAMP:20260422T004856Z
DTSTART:20260502T150000Z
DTEND:20260502T160000Z
SUMMARY:Graveside Service
DESCRIPTION:
URL:https://www.forbeshoffman.com/obituaries/loretta-swenson
LOCATION: Elk Road and 10000 Road  Angola KS 
GEO:37.1056292;-95.4494197
END:VEVENT
END:VCALENDAR